Package: RTNsurvival
Version: 1.31.0
Command: /Library/Frameworks/R.framework/Resources/bin/R CMD INSTALL RTNsurvival
StartedAt: 2025-02-19 15:42:02 -0500 (Wed, 19 Feb 2025)
EndedAt: 2025-02-19 15:42:44 -0500 (Wed, 19 Feb 2025)
EllapsedTime: 42.1 seconds
RetCode: 0
Status: OK