Package: RTNsurvival Version: 1.31.0 Command: rm -rf RTNsurvival.buildbin-libdir && mkdir RTNsurvival.buildbin-libdir && /Users/biocbuild/BBS/utils/build-universal.sh RTNsurvival_1.31.0.tar.gz /Library/Frameworks/R.framework/Resources/bin/R RTNsurvival.buildbin-libdir StartedAt: 2025-02-20 00:51:55 -0500 (Thu, 20 Feb 2025) EndedAt: 2025-02-20 00:52:40 -0500 (Thu, 20 Feb 2025) EllapsedTime: 45.0 seconds RetCode: 0 Status: OK PackageFile: RTNsurvival_1.31.0.tgz PackageFileSize: 950.5 <A href="http://en.wikipedia.org/wiki/KiB" target="_blank">KiB</A>