Package: RTNsurvival
Version: 1.31.0
Command: /home/biocbuild/R/R/bin/R CMD INSTALL RTNsurvival
StartedAt: 2025-01-29 20:31:13 -0000 (Wed, 29 Jan 2025)
EndedAt: 2025-01-29 20:31:57 -0000 (Wed, 29 Jan 2025)
EllapsedTime: 44.3 seconds
RetCode: 0
Status: OK