Package: RTNsurvival
Version: 1.31.0
Command: /home/biocbuild/R/R/bin/R CMD check --install=check:RTNsurvival.install-out.txt --library=/home/biocbuild/R/R/site-library --no-vignettes --timings RTNsurvival_1.31.0.tar.gz
StartedAt: 2025-01-28 14:47:39 -0000 (Tue, 28 Jan 2025)
EndedAt: 2025-01-28 14:52:31 -0000 (Tue, 28 Jan 2025)
EllapsedTime: 292.5 seconds
RetCode: 0
Status: OK
CheckDir: RTNsurvival.Rcheck
Warnings: 0