Package: RTCGA Version: 1.37.0 Command: E:\biocbuild\bbs-3.21-bioc\R\bin\R.exe CMD INSTALL RTCGA StartedAt: 2025-02-19 16:58:44 -0500 (Wed, 19 Feb 2025) EndedAt: 2025-02-19 16:59:01 -0500 (Wed, 19 Feb 2025) EllapsedTime: 16.3 seconds RetCode: 0 Status: OK