Package: RTCGA Version: 1.37.0 Command: E:\biocbuild\bbs-3.21-bioc\R\bin\R.exe CMD check --no-multiarch --install=check:RTCGA.install-out.txt --library=E:\biocbuild\bbs-3.21-bioc\R\library --no-vignettes --timings RTCGA_1.37.0.tar.gz StartedAt: 2025-02-20 04:55:51 -0500 (Thu, 20 Feb 2025) EndedAt: 2025-02-20 04:59:05 -0500 (Thu, 20 Feb 2025) EllapsedTime: 193.6 seconds RetCode: 0 Status: OK CheckDir: RTCGA.Rcheck Warnings: 0