Package: RTCGA Version: 1.37.0 Command: chmod a+r RTCGA -R && E:\biocbuild\bbs-3.21-bioc\R\bin\R.exe CMD build --keep-empty-dirs --no-resave-data RTCGA StartedAt: 2025-02-19 21:19:56 -0500 (Wed, 19 Feb 2025) EndedAt: 2025-02-19 21:20:37 -0500 (Wed, 19 Feb 2025) EllapsedTime: 40.8 seconds RetCode: 0 Status: OK PackageFile: RTCGA_1.37.0.tar.gz PackageFileSize: 2.437 <A href="http://en.wikipedia.org/wiki/MiB" target="_blank">MiB</A>