Package: RTCGA
Version: 1.37.0
Command: /home/biocbuild/bbs-3.21-bioc/R/bin/R CMD check --install=check:RTCGA.install-out.txt --library=/home/biocbuild/bbs-3.21-bioc/R/site-library --timings RTCGA_1.37.0.tar.gz
StartedAt: 2025-02-20 01:59:22 -0500 (Thu, 20 Feb 2025)
EndedAt: 2025-02-20 02:01:50 -0500 (Thu, 20 Feb 2025)
EllapsedTime: 148.3 seconds
RetCode: 0
Status: OK
CheckDir: RTCGA.Rcheck
Warnings: 0