Package: RTCGA
Version: 1.37.0
Command: /Library/Frameworks/R.framework/Resources/bin/R CMD INSTALL RTCGA
StartedAt: 2025-02-19 15:43:21 -0500 (Wed, 19 Feb 2025)
EndedAt: 2025-02-19 15:43:34 -0500 (Wed, 19 Feb 2025)
EllapsedTime: 13.3 seconds
RetCode: 0
Status: OK