Package: RTCGA Version: 1.37.0 Command: /Library/Frameworks/R.framework/Resources/bin/R CMD build --keep-empty-dirs --no-resave-data RTCGA StartedAt: 2025-02-19 18:04:34 -0500 (Wed, 19 Feb 2025) EndedAt: 2025-02-19 18:04:50 -0500 (Wed, 19 Feb 2025) EllapsedTime: 16.1 seconds RetCode: 0 Status: OK PackageFile: RTCGA_1.37.0.tar.gz PackageFileSize: 2.437 <A href="http://en.wikipedia.org/wiki/MiB" target="_blank">MiB</A>