Package: RSeqAn Version: 1.27.0 Command: /home/biocbuild/bbs-3.21-bioc/R/bin/R CMD INSTALL RSeqAn StartedAt: 2025-02-19 15:03:06 -0500 (Wed, 19 Feb 2025) EndedAt: 2025-02-19 15:03:17 -0500 (Wed, 19 Feb 2025) EllapsedTime: 11.6 seconds RetCode: 0 Status: OK