Package: RSeqAn
Version: 1.27.0
Command: /home/biocbuild/bbs-3.21-bioc/R/bin/R CMD check --install=check:RSeqAn.install-out.txt --library=/home/biocbuild/bbs-3.21-bioc/R/site-library --timings RSeqAn_1.27.0.tar.gz
StartedAt: 2025-02-20 01:59:09 -0500 (Thu, 20 Feb 2025)
EndedAt: 2025-02-20 01:59:34 -0500 (Thu, 20 Feb 2025)
EllapsedTime: 25.1 seconds
RetCode: 0
Status: OK
CheckDir: RSeqAn.Rcheck
Warnings: 0