Package: RSeqAn
Version: 1.27.0
Command: /home/biocbuild/bbs-3.21-bioc/R/bin/R CMD build --keep-empty-dirs --no-resave-data RSeqAn
StartedAt: 2025-02-19 18:59:04 -0500 (Wed, 19 Feb 2025)
EndedAt: 2025-02-19 18:59:20 -0500 (Wed, 19 Feb 2025)
EllapsedTime: 16.0 seconds
RetCode: 0
Status: OK
PackageFile: RSeqAn_1.27.0.tar.gz
PackageFileSize: 1.62 <A href="http://en.wikipedia.org/wiki/MiB" target="_blank">MiB</A>