Package: RSeqAn
Version: 1.27.0
Command: /Library/Frameworks/R.framework/Resources/bin/R CMD INSTALL RSeqAn
StartedAt: 2025-02-19 15:05:36 -0500 (Wed, 19 Feb 2025)
EndedAt: 2025-02-19 15:06:12 -0500 (Wed, 19 Feb 2025)
EllapsedTime: 35.8 seconds
RetCode: 0
Status: OK