Package: RSeqAn
Version: 1.27.0
Command: rm -rf RSeqAn.buildbin-libdir && mkdir RSeqAn.buildbin-libdir && /Users/biocbuild/BBS/utils/build-universal.sh RSeqAn_1.27.0.tar.gz /Library/Frameworks/R.framework/Resources/bin/R RSeqAn.buildbin-libdir
StartedAt: 2025-02-20 00:51:45 -0500 (Thu, 20 Feb 2025)
EndedAt: 2025-02-20 00:52:04 -0500 (Thu, 20 Feb 2025)
EllapsedTime: 19.7 seconds
RetCode: 0
Status: OK
PackageFile: RSeqAn_1.27.0.tgz
PackageFileSize: 1.715 <A href="http://en.wikipedia.org/wiki/MiB" target="_blank">MiB</A>