Package: RSeqAn
Version: 1.27.0
Command: /home/biocbuild/R/R/bin/R CMD INSTALL RSeqAn
StartedAt: 2025-01-29 19:33:22 -0000 (Wed, 29 Jan 2025)
EndedAt: 2025-01-29 19:33:51 -0000 (Wed, 29 Jan 2025)
EllapsedTime: 29.2 seconds
RetCode: 0
Status: OK