Package: RSeqAn
Version: 1.27.0
Command: /home/biocbuild/R/R/bin/R CMD check --install=check:RSeqAn.install-out.txt --library=/home/biocbuild/R/R/site-library --no-vignettes --timings RSeqAn_1.27.0.tar.gz
StartedAt: 2025-01-28 14:46:31 -0000 (Tue, 28 Jan 2025)
EndedAt: 2025-01-28 14:46:53 -0000 (Tue, 28 Jan 2025)
EllapsedTime: 22.0 seconds
RetCode: 0
Status: OK
CheckDir: RSeqAn.Rcheck
Warnings: 0