Package: RSeqAn Version: 1.27.0 Command: /home/biocbuild/R/R/bin/R CMD build --keep-empty-dirs --no-resave-data RSeqAn StartedAt: 2025-01-29 01:52:27 -0000 (Wed, 29 Jan 2025) EndedAt: 2025-01-29 01:52:50 -0000 (Wed, 29 Jan 2025) EllapsedTime: 23.0 seconds RetCode: 0 Status: OK PackageFile: RSeqAn_1.27.0.tar.gz PackageFileSize: 1.621 <A href="http://en.wikipedia.org/wiki/MiB" target="_blank">MiB</A>