Package: ROTS Version: 1.99.11 Command: E:\biocbuild\bbs-3.21-bioc\R\bin\R.exe CMD check --no-multiarch --install=check:ROTS.install-out.txt --library=E:\biocbuild\bbs-3.21-bioc\R\library --no-vignettes --timings ROTS_1.99.11.tar.gz StartedAt: 2025-02-05 05:17:13 -0500 (Wed, 05 Feb 2025) EndedAt: 2025-02-05 05:18:51 -0500 (Wed, 05 Feb 2025) EllapsedTime: 98.7 seconds RetCode: 0 Status: OK CheckDir: ROTS.Rcheck Warnings: 0