Package: ROTS Version: 1.99.11 Command: /home/biocbuild/bbs-3.21-bioc/R/bin/R CMD INSTALL ROTS StartedAt: 2025-02-19 15:14:24 -0500 (Wed, 19 Feb 2025) EndedAt: 2025-02-19 15:14:41 -0500 (Wed, 19 Feb 2025) EllapsedTime: 17.4 seconds RetCode: 0 Status: OK