Package: ROTS Version: 1.99.11 Command: /home/biocbuild/bbs-3.21-bioc/R/bin/R CMD build --keep-empty-dirs --no-resave-data ROTS StartedAt: 2025-02-19 18:58:16 -0500 (Wed, 19 Feb 2025) EndedAt: 2025-02-19 18:58:42 -0500 (Wed, 19 Feb 2025) EllapsedTime: 26.0 seconds RetCode: 0 Status: OK PackageFile: ROTS_1.99.11.tar.gz PackageFileSize: 459.1 <A href="http://en.wikipedia.org/wiki/KiB" target="_blank">KiB</A>