Package: ROTS Version: 1.99.11 Command: /Library/Frameworks/R.framework/Resources/bin/R CMD check --install=check:ROTS.install-out.txt --library=/Library/Frameworks/R.framework/Resources/library --no-vignettes --timings ROTS_1.99.11.tar.gz StartedAt: 2025-02-04 22:55:36 -0500 (Tue, 04 Feb 2025) EndedAt: 2025-02-04 22:56:59 -0500 (Tue, 04 Feb 2025) EllapsedTime: 82.8 seconds RetCode: 0 Status: OK CheckDir: ROTS.Rcheck Warnings: 0