Package: ROTS
Version: 1.99.11
Command: /home/biocbuild/R/R/bin/R CMD INSTALL ROTS
StartedAt: 2025-01-29 19:45:21 -0000 (Wed, 29 Jan 2025)
EndedAt: 2025-01-29 19:45:48 -0000 (Wed, 29 Jan 2025)
EllapsedTime: 27.0 seconds
RetCode: 0
Status: OK