Package: ROTS
Version: 1.99.11
Command: /Library/Frameworks/R.framework/Resources/bin/R CMD INSTALL ROTS
StartedAt: 2025-02-19 15:07:41 -0500 (Wed, 19 Feb 2025)
EndedAt: 2025-02-19 15:07:47 -0500 (Wed, 19 Feb 2025)
EllapsedTime: 6.0 seconds
RetCode: 0
Status: OK