Package: ROTS
Version: 1.99.11
Command: /Library/Frameworks/R.framework/Resources/bin/R CMD check --install=check:ROTS.install-out.txt --library=/Library/Frameworks/R.framework/Resources/library --no-vignettes --timings ROTS_1.99.11.tar.gz
StartedAt: 2025-02-19 21:10:31 -0500 (Wed, 19 Feb 2025)
EndedAt: 2025-02-19 21:11:08 -0500 (Wed, 19 Feb 2025)
EllapsedTime: 36.5 seconds
RetCode: 0
Status: OK
CheckDir: ROTS.Rcheck
Warnings: 0