Package: ROTS
Version: 1.99.11
Command: rm -rf ROTS.buildbin-libdir && mkdir ROTS.buildbin-libdir && /Users/biocbuild/BBS/utils/build-universal.sh ROTS_1.99.11.tar.gz /Library/Frameworks/R.framework/Resources/bin/R ROTS.buildbin-libdir
StartedAt: 2025-02-19 22:36:17 -0500 (Wed, 19 Feb 2025)
EndedAt: 2025-02-19 22:36:24 -0500 (Wed, 19 Feb 2025)
EllapsedTime: 7.2 seconds
RetCode: 0
Status: OK
PackageFile: ROTS_1.99.11.tgz
PackageFileSize: 564.4 <A href="http://en.wikipedia.org/wiki/KiB" target="_blank">KiB</A>