Package: RNAsense
Version: 1.21.0
Maintainer: Marcus Rosenblatt
MaintainerEmail: marcus.rosenblatt at gmail.com
git_url: https://git.bioconductor.org/packages/RNAsense
git_branch: devel
git_last_commit: e99ce3a
git_last_commit_date: 2024-10-29 10:41:44 -0500 (Tue, 29 Oct 2024)