Package: RNASeqPower Version: 1.47.0 Command: E:\biocbuild\bbs-3.21-bioc\R\bin\R.exe CMD check --no-multiarch --install=check:RNASeqPower.install-out.txt --library=E:\biocbuild\bbs-3.21-bioc\R\library --no-vignettes --timings RNASeqPower_1.47.0.tar.gz StartedAt: 2025-02-05 05:14:33 -0500 (Wed, 05 Feb 2025) EndedAt: 2025-02-05 05:14:58 -0500 (Wed, 05 Feb 2025) EllapsedTime: 25.1 seconds RetCode: 0 Status: OK CheckDir: RNASeqPower.Rcheck Warnings: 0