Package: RNASeqPower Version: 1.47.0 Command: /home/biocbuild/bbs-3.21-bioc/R/bin/R CMD INSTALL RNASeqPower StartedAt: 2025-02-04 15:01:04 -0500 (Tue, 04 Feb 2025) EndedAt: 2025-02-04 15:01:14 -0500 (Tue, 04 Feb 2025) EllapsedTime: 9.5 seconds RetCode: 0 Status: OK