Package: RNASeqPower Version: 1.47.0 Command: /Library/Frameworks/R.framework/Resources/bin/R CMD build --keep-empty-dirs --no-resave-data RNASeqPower StartedAt: 2025-02-04 18:05:27 -0500 (Tue, 04 Feb 2025) EndedAt: 2025-02-04 18:05:36 -0500 (Tue, 04 Feb 2025) EllapsedTime: 9.2 seconds RetCode: 0 Status: OK PackageFile: RNASeqPower_1.47.0.tar.gz PackageFileSize: 190.3 KiB