Package: RNASeqPower Version: 1.47.0 Command: /home/biocbuild/R/R/bin/R CMD check --install=check:RNASeqPower.install-out.txt --library=/home/biocbuild/R/R/site-library --no-vignettes --timings RNASeqPower_1.47.0.tar.gz StartedAt: 2025-01-28 14:40:31 -0000 (Tue, 28 Jan 2025) EndedAt: 2025-01-28 14:40:46 -0000 (Tue, 28 Jan 2025) EllapsedTime: 15.0 seconds RetCode: 0 Status: OK CheckDir: RNASeqPower.Rcheck Warnings: 0