Package: RNASeqPower Version: 1.47.0 Command: /home/biocbuild/R/R/bin/R CMD build --keep-empty-dirs --no-resave-data RNASeqPower StartedAt: 2025-01-29 01:47:33 -0000 (Wed, 29 Jan 2025) EndedAt: 2025-01-29 01:47:38 -0000 (Wed, 29 Jan 2025) EllapsedTime: 5.0 seconds RetCode: 0 Status: OK PackageFile: RNASeqPower_1.47.0.tar.gz PackageFileSize: 192.8 KiB