Package: RMassBank
Version: 3.17.0
Maintainer: RMassBank at Eawag
MaintainerEmail: massbank at eawag.ch
git_url: https://git.bioconductor.org/packages/RMassBank
git_branch: devel
git_last_commit: 8e633a1
git_last_commit_date: 2024-10-29 09:42:07 -0500 (Tue, 29 Oct 2024)