Package: RLMM
Version: 1.69.0
Maintainer: Nusrat Rabbee
MaintainerEmail: nrabbee at post.harvard.edu
git_url: https://git.bioconductor.org/packages/RLMM
git_branch: devel
git_last_commit: b3e0ae7
git_last_commit_date: 2024-10-29 09:25:18 -0500 (Tue, 29 Oct 2024)