Package: REMP
Version: 1.31.0
Command: E:\biocbuild\bbs-3.21-bioc\R\bin\R.exe CMD INSTALL REMP
StartedAt: 2025-02-19 16:53:39 -0500 (Wed, 19 Feb 2025)
EndedAt: 2025-02-19 16:55:01 -0500 (Wed, 19 Feb 2025)
EllapsedTime: 82.3 seconds
RetCode: 0
Status: OK