Package: REMP Version: 1.31.0 Command: E:\biocbuild\bbs-3.21-bioc\R\bin\R.exe CMD check --no-multiarch --install=check:REMP.install-out.txt --library=E:\biocbuild\bbs-3.21-bioc\R\library --no-vignettes --timings REMP_1.31.0.tar.gz StartedAt: 2025-02-20 04:38:22 -0500 (Thu, 20 Feb 2025) EndedAt: 2025-02-20 04:47:28 -0500 (Thu, 20 Feb 2025) EllapsedTime: 545.4 seconds RetCode: 0 Status: OK CheckDir: REMP.Rcheck Warnings: 0