Package: REMP
Version: 1.31.0
Command: chmod a+r REMP -R && E:\biocbuild\bbs-3.21-bioc\R\bin\R.exe CMD build --keep-empty-dirs --no-resave-data REMP
StartedAt: 2025-02-19 21:08:39 -0500 (Wed, 19 Feb 2025)
EndedAt: 2025-02-19 21:11:38 -0500 (Wed, 19 Feb 2025)
EllapsedTime: 179.7 seconds
RetCode: 0
Status: OK
PackageFile: REMP_1.31.0.tar.gz
PackageFileSize: 191.5 <A href="http://en.wikipedia.org/wiki/KiB" target="_blank">KiB</A>