##############################################################################
##############################################################################
###
### Running command:
###
###   rm -rf REMP.buildbin-libdir && mkdir REMP.buildbin-libdir && E:\biocbuild\bbs-3.21-bioc\R\bin\R.exe CMD INSTALL --build --library=REMP.buildbin-libdir REMP_1.31.0.tar.gz
###
##############################################################################
##############################################################################


* installing *source* package 'REMP' ...
** this is package 'REMP' version '1.31.0'
** using staged installation
** R
** data
*** moving datasets to lazyload DB
** inst
** byte-compile and prepare package for lazy loading
** help
*** installing help indices
** building package indices
** installing vignettes
** testing if installed package can be loaded from temporary location
** testing if installed package can be loaded from final location
** testing if installed package keeps a record of temporary installation path
* MD5 sums
packaged installation of 'REMP' as REMP_1.31.0.zip
* DONE (REMP)