Package: REMP Version: 1.31.0 Command: /Library/Frameworks/R.framework/Resources/bin/R CMD INSTALL REMP StartedAt: 2025-02-04 15:27:15 -0500 (Tue, 04 Feb 2025) EndedAt: 2025-02-04 15:27:38 -0500 (Tue, 04 Feb 2025) EllapsedTime: 23.4 seconds RetCode: 0 Status: OK