Package: RCy3
Version: 2.27.0
Command: /Library/Frameworks/R.framework/Resources/bin/R CMD check --install=check:RCy3.install-out.txt --library=/Library/Frameworks/R.framework/Resources/library --no-vignettes --timings RCy3_2.27.0.tar.gz
StartedAt: 2025-02-19 22:40:34 -0500 (Wed, 19 Feb 2025)
EndedAt: 2025-02-19 22:42:10 -0500 (Wed, 19 Feb 2025)
EllapsedTime: 95.7 seconds
RetCode: 0
Status: OK
CheckDir: RCy3.Rcheck
Warnings: 0