Package: RCy3 Version: 2.27.0 Command: /Library/Frameworks/R.framework/Resources/bin/R CMD build --keep-empty-dirs --no-resave-data RCy3 StartedAt: 2025-02-19 17:56:36 -0500 (Wed, 19 Feb 2025) EndedAt: 2025-02-19 17:57:40 -0500 (Wed, 19 Feb 2025) EllapsedTime: 64.1 seconds RetCode: 0 Status: OK PackageFile: RCy3_2.27.0.tar.gz PackageFileSize: 6.457 <A href="http://en.wikipedia.org/wiki/MiB" target="_blank">MiB</A>