Package: RCy3 Version: 2.27.0 Command: rm -rf RCy3.buildbin-libdir && mkdir RCy3.buildbin-libdir && /Users/biocbuild/BBS/utils/build-universal.sh RCy3_2.27.0.tar.gz /Library/Frameworks/R.framework/Resources/bin/R RCy3.buildbin-libdir StartedAt: 2025-02-20 00:49:10 -0500 (Thu, 20 Feb 2025) EndedAt: 2025-02-20 00:49:34 -0500 (Thu, 20 Feb 2025) EllapsedTime: 24.2 seconds RetCode: 0 Status: OK PackageFile: RCy3_2.27.0.tgz PackageFileSize: 7.32 <A href="http://en.wikipedia.org/wiki/MiB" target="_blank">MiB</A>