##############################################################################
##############################################################################
###
### Running command:
###
###   rm -rf RCy3.buildbin-libdir && mkdir RCy3.buildbin-libdir && /Users/biocbuild/BBS/utils/build-universal.sh RCy3_2.27.0.tar.gz /Library/Frameworks/R.framework/Resources/bin/R RCy3.buildbin-libdir
###
##############################################################################
##############################################################################


>>>>>>> 
>>>>>>> INSTALLATION WITH 'R CMD INSTALL --preclean --no-multiarch --library=RCy3.buildbin-libdir RCy3_2.27.0.tar.gz'
>>>>>>> 

* installing *source* package ‘RCy3’ ...
** this is package ‘RCy3’ version ‘2.27.0’
** using staged installation
** R
** inst
** byte-compile and prepare package for lazy loading
** help
*** installing help indices
** building package indices
** installing vignettes
** testing if installed package can be loaded from temporary location
** testing if installed package can be loaded from final location
** testing if installed package keeps a record of temporary installation path
* DONE (RCy3)