Package: RCASPAR Version: 1.53.0 Command: /home/biocbuild/bbs-3.21-bioc/R/bin/R CMD INSTALL RCASPAR StartedAt: 2025-02-18 15:00:58 -0500 (Tue, 18 Feb 2025) EndedAt: 2025-02-18 15:01:06 -0500 (Tue, 18 Feb 2025) EllapsedTime: 7.9 seconds RetCode: 0 Status: OK