Package: RCASPAR
Version: 1.53.0
Command: /home/biocbuild/bbs-3.21-bioc/R/bin/R CMD check --install=check:RCASPAR.install-out.txt --library=/home/biocbuild/bbs-3.21-bioc/R/site-library --timings RCASPAR_1.53.0.tar.gz
StartedAt: 2025-02-20 01:35:45 -0500 (Thu, 20 Feb 2025)
EndedAt: 2025-02-20 01:36:08 -0500 (Thu, 20 Feb 2025)
EllapsedTime: 22.1 seconds
RetCode: 0
Status: OK
CheckDir: RCASPAR.Rcheck
Warnings: 0