Package: RCASPAR Version: 1.53.0 Command: /home/biocbuild/bbs-3.21-bioc/R/bin/R CMD build --keep-empty-dirs --no-resave-data RCASPAR StartedAt: 2025-02-18 18:42:15 -0500 (Tue, 18 Feb 2025) EndedAt: 2025-02-18 18:42:21 -0500 (Tue, 18 Feb 2025) EllapsedTime: 6.0 seconds RetCode: 0 Status: OK PackageFile: RCASPAR_1.53.0.tar.gz PackageFileSize: 305.6 <A href="http://en.wikipedia.org/wiki/KiB" target="_blank">KiB</A>