Package: RCASPAR
Version: 1.53.0
Command: /Library/Frameworks/R.framework/Resources/bin/R CMD INSTALL RCASPAR
StartedAt: 2025-02-19 15:05:58 -0500 (Wed, 19 Feb 2025)
EndedAt: 2025-02-19 15:06:24 -0500 (Wed, 19 Feb 2025)
EllapsedTime: 25.7 seconds
RetCode: 0
Status: OK