Package: RCASPAR Version: 1.53.0 Command: /Library/Frameworks/R.framework/Resources/bin/R CMD check --install=check:RCASPAR.install-out.txt --library=/Library/Frameworks/R.framework/Resources/library --no-vignettes --timings RCASPAR_1.53.0.tar.gz StartedAt: 2025-02-19 22:40:01 -0500 (Wed, 19 Feb 2025) EndedAt: 2025-02-19 22:40:34 -0500 (Wed, 19 Feb 2025) EllapsedTime: 33.0 seconds RetCode: 0 Status: OK CheckDir: RCASPAR.Rcheck Warnings: 0