Package: RCAS
Version: 1.33.0
Command: E:\biocbuild\bbs-3.21-bioc\R\bin\R.exe CMD INSTALL RCAS
StartedAt: 2025-02-18 16:27:36 -0500 (Tue, 18 Feb 2025)
EndedAt: 2025-02-18 16:28:44 -0500 (Tue, 18 Feb 2025)
EllapsedTime: 68.2 seconds
RetCode: 0
Status: OK