Package: RCAS Version: 1.33.0 Command: E:\biocbuild\bbs-3.21-bioc\R\bin\R.exe CMD check --no-multiarch --install=check:RCAS.install-out.txt --library=E:\biocbuild\bbs-3.21-bioc\R\library --no-vignettes --timings RCAS_1.33.0.tar.gz StartedAt: 2025-02-20 04:32:20 -0500 (Thu, 20 Feb 2025) EndedAt: 2025-02-20 04:46:06 -0500 (Thu, 20 Feb 2025) EllapsedTime: 826.3 seconds RetCode: 0 Status: OK CheckDir: RCAS.Rcheck Warnings: 0